BEGIN:VCALENDAR
VERSION:2.0
PRODID:-//Birken House Bakery - ECPv6.15.20//NONSGML v1.0//EN
CALSCALE:GREGORIAN
METHOD:PUBLISH
X-WR-CALNAME:Birken House Bakery
X-ORIGINAL-URL:https://birkenhousebakery.com
X-WR-CALDESC:Events for Birken House Bakery
REFRESH-INTERVAL;VALUE=DURATION:PT1H
X-Robots-Tag:noindex
X-PUBLISHED-TTL:PT1H
BEGIN:VTIMEZONE
TZID:America/Vancouver
BEGIN:DAYLIGHT
TZOFFSETFROM:-0800
TZOFFSETTO:-0700
TZNAME:PDT
DTSTART:20250309T100000
END:DAYLIGHT
BEGIN:STANDARD
TZOFFSETFROM:-0700
TZOFFSETTO:-0800
TZNAME:PST
DTSTART:20251102T090000
END:STANDARD
BEGIN:DAYLIGHT
TZOFFSETFROM:-0800
TZOFFSETTO:-0700
TZNAME:PDT
DTSTART:20260308T100000
END:DAYLIGHT
BEGIN:STANDARD
TZOFFSETFROM:-0700
TZOFFSETTO:-0800
TZNAME:PST
DTSTART:20261101T090000
END:STANDARD
BEGIN:DAYLIGHT
TZOFFSETFROM:-0800
TZOFFSETTO:-0700
TZNAME:PDT
DTSTART:20270314T100000
END:DAYLIGHT
BEGIN:STANDARD
TZOFFSETFROM:-0700
TZOFFSETTO:-0800
TZNAME:PST
DTSTART:20271107T090000
END:STANDARD
END:VTIMEZONE
BEGIN:VEVENT
DTSTART;TZID=America/Vancouver:20260502T090000
DTEND;TZID=America/Vancouver:20260502T140000
DTSTAMP:20260424T081103
CREATED:20260416T055354Z
LAST-MODIFIED:20260416T055402Z
UID:31424-1777712400-1777730400@birkenhousebakery.com
SUMMARY:Bakery Open
DESCRIPTION:
URL:https://birkenhousebakery.com/calendar/bakery-open-94/
LOCATION:Birken House Bakery\, 9230 Portage Road\, Birken\, BC\, V0N1L0\, Canada
END:VEVENT
BEGIN:VEVENT
DTSTART;TZID=America/Vancouver:20260503T090000
DTEND;TZID=America/Vancouver:20260503T140000
DTSTAMP:20260424T081103
CREATED:20260416T055514Z
LAST-MODIFIED:20260416T055514Z
UID:31426-1777798800-1777816800@birkenhousebakery.com
SUMMARY:Bakery Open
DESCRIPTION:
URL:https://birkenhousebakery.com/calendar/bakery-open-95/
LOCATION:Birken House Bakery\, 9230 Portage Road\, Birken\, BC\, V0N1L0\, Canada
END:VEVENT
END:VCALENDAR