BEGIN:VCALENDAR
VERSION:2.0
PRODID:-//Birken House Bakery - ECPv6.15.20//NONSGML v1.0//EN
CALSCALE:GREGORIAN
METHOD:PUBLISH
X-WR-CALNAME:Birken House Bakery
X-ORIGINAL-URL:https://birkenhousebakery.com
X-WR-CALDESC:Events for Birken House Bakery
REFRESH-INTERVAL;VALUE=DURATION:PT1H
X-Robots-Tag:noindex
X-PUBLISHED-TTL:PT1H
BEGIN:VTIMEZONE
TZID:America/Vancouver
BEGIN:DAYLIGHT
TZOFFSETFROM:-0800
TZOFFSETTO:-0700
TZNAME:PDT
DTSTART:20240310T100000
END:DAYLIGHT
BEGIN:STANDARD
TZOFFSETFROM:-0700
TZOFFSETTO:-0800
TZNAME:PST
DTSTART:20241103T090000
END:STANDARD
BEGIN:DAYLIGHT
TZOFFSETFROM:-0800
TZOFFSETTO:-0700
TZNAME:PDT
DTSTART:20250309T100000
END:DAYLIGHT
BEGIN:STANDARD
TZOFFSETFROM:-0700
TZOFFSETTO:-0800
TZNAME:PST
DTSTART:20251102T090000
END:STANDARD
BEGIN:DAYLIGHT
TZOFFSETFROM:-0800
TZOFFSETTO:-0700
TZNAME:PDT
DTSTART:20260308T100000
END:DAYLIGHT
BEGIN:STANDARD
TZOFFSETFROM:-0700
TZOFFSETTO:-0800
TZNAME:PST
DTSTART:20261101T090000
END:STANDARD
END:VTIMEZONE
BEGIN:VEVENT
DTSTART;TZID=America/Vancouver:20250503T090000
DTEND;TZID=America/Vancouver:20250503T140000
DTSTAMP:20260424T182422
CREATED:20250325T222703Z
LAST-MODIFIED:20250325T222703Z
UID:30960-1746262800-1746280800@birkenhousebakery.com
SUMMARY:Bakery Open
DESCRIPTION:Open for baked goods and drinks. No brunch yet!
URL:https://birkenhousebakery.com/calendar/bakery-open-88/
LOCATION:Birken House Bakery\, 9230 Portage Road\, Birken\, BC\, V0N1L0\, Canada
ATTACH;FMTTYPE=image/jpeg:https://birkenhousebakery.com/wp-content/uploads/2020/03/img_4205-1-1.jpg
END:VEVENT
BEGIN:VEVENT
DTSTART;TZID=America/Vancouver:20250510T090000
DTEND;TZID=America/Vancouver:20250510T140000
DTSTAMP:20260424T182422
CREATED:20250325T224918Z
LAST-MODIFIED:20250325T224918Z
UID:30966-1746867600-1746885600@birkenhousebakery.com
SUMMARY:Bakery Open
DESCRIPTION:Open for baked goods and snacks. No brunch yet!
URL:https://birkenhousebakery.com/calendar/bakery-open-89/
LOCATION:Birken House Bakery\, 9230 Portage Road\, Birken\, BC\, V0N1L0\, Canada
ATTACH;FMTTYPE=image/jpeg:https://birkenhousebakery.com/wp-content/uploads/2020/03/img_4205-1-1.jpg
END:VEVENT
BEGIN:VEVENT
DTSTART;TZID=America/Vancouver:20250511T110000
DTEND;TZID=America/Vancouver:20250511T150000
DTSTAMP:20260424T182422
CREATED:20250325T225801Z
LAST-MODIFIED:20250427T190505Z
UID:30968-1746961200-1746975600@birkenhousebakery.com
SUMMARY:Tea in the Garden
DESCRIPTION:Our popular Mothers Day event returns! To reserve your spot\, reservations are strongly recommended. \nFor more details and to make a reservation\, click here
URL:https://birkenhousebakery.com/calendar/tea-in-the-garden/
LOCATION:Birken House Bakery\, 9230 Portage Road\, Birken\, BC\, V0N1L0\, Canada
ATTACH;FMTTYPE=image/jpeg:https://birkenhousebakery.com/wp-content/uploads/2024/04/IMG_8481.jpg
END:VEVENT
BEGIN:VEVENT
DTSTART;TZID=America/Vancouver:20250517T090000
DTEND;TZID=America/Vancouver:20250517T140000
DTSTAMP:20260424T182422
CREATED:20250325T230251Z
LAST-MODIFIED:20250325T230251Z
UID:30970-1747472400-1747490400@birkenhousebakery.com
SUMMARY:Bakery open for Brunch
DESCRIPTION:First brunch of the season!
URL:https://birkenhousebakery.com/calendar/bakery-open-for-brunch-9/
LOCATION:Birken House Bakery\, 9230 Portage Road\, Birken\, BC\, V0N1L0\, Canada
ATTACH;FMTTYPE=image/jpeg:https://birkenhousebakery.com/wp-content/uploads/2025/03/patio-scaled.jpg
END:VEVENT
BEGIN:VEVENT
DTSTART;TZID=America/Vancouver:20250518T090000
DTEND;TZID=America/Vancouver:20250518T140000
DTSTAMP:20260424T182422
CREATED:20250325T230415Z
LAST-MODIFIED:20250325T230415Z
UID:30974-1747558800-1747576800@birkenhousebakery.com
SUMMARY:Bakery Open for Brunch
DESCRIPTION:Brunch is Back!
URL:https://birkenhousebakery.com/calendar/bakery-open-for-brunch-10/
LOCATION:Birken House Bakery\, 9230 Portage Road\, Birken\, BC\, V0N1L0\, Canada
ATTACH;FMTTYPE=image/jpeg:https://birkenhousebakery.com/wp-content/uploads/2025/03/brunch-scaled.jpg
END:VEVENT
END:VCALENDAR